BEGIN:VCALENDAR
VERSION:2.0
PRODID:-//Tukios.com/
BEGIN:VEVENT
UID:0e2614ef-16f9-4a2c-bc3e-33a63a06daf4@www.plintoncurry.com
DTSTAMP:20260422T214119Z
DTSTART:20260425T150000Z
DTEND:20260425T170000Z
SUMMARY:Memorial Service
DESCRIPTION:
URL:https://www.plintoncurry.com/obituaries/vanessa-scruggs
LOCATION: 145 Warren Street  Franklin Township NJ 08873
GEO:40.490795;-74.4925902
END:VEVENT
END:VCALENDAR