BEGIN:VCALENDAR
VERSION:2.0
PRODID:-//Tukios.com/
BEGIN:VEVENT
UID:66981411-c07c-489b-b575-15514e56b8a9@www.plintoncurry.com
DTSTAMP:20260424T184302Z
DTSTART:20260429T170000Z
DTEND:20260429T171500Z
SUMMARY:Burial
DESCRIPTION:
URL:https://www.plintoncurry.com/obituaries/ruby-starks-billig
LOCATION:Brigadier General William C. Doyle Memorial Cemetery 350 
	Province Line Rd  Wrightstown NJ 08562
GEO:40.0935376;-74.5640937
END:VEVENT
END:VCALENDAR