BEGIN:VCALENDAR
VERSION:2.0
PRODID:-//Tukios.com/
BEGIN:VEVENT
UID:8d70d7c7-ec79-44e6-9821-ef646055cd3e@www.plintoncurry.com
DTSTAMP:20260424T184241Z
DTSTART:20260428T150000Z
DTEND:20260428T160000Z
SUMMARY:Funeral Service
DESCRIPTION:
URL:https://www.plintoncurry.com/obituaries/ruby-starks-billig
LOCATION: 100 Chancellor Avenue  Newark NJ 07112
GEO:40.7045506;-74.2139032
END:VEVENT
END:VCALENDAR