BEGIN:VCALENDAR
VERSION:2.0
PRODID:-//Tukios.com/
BEGIN:VEVENT
UID:ff10ee4d-35e9-43ca-8c59-d6ab0b93a00f@www.plintoncurry.com
DTSTAMP:20260424T184425Z
DTSTART:20260428T140000Z
DTEND:20260428T150000Z
SUMMARY:Viewing
DESCRIPTION:
URL:https://www.plintoncurry.com/obituaries/ruby-starks-billig
LOCATION: 100 Chancellor Avenue  Newark NJ 07112
GEO:40.7045506;-74.2139032
END:VEVENT
END:VCALENDAR