BEGIN:VCALENDAR
VERSION:2.0
PRODID:-//Tukios.com/
BEGIN:VEVENT
UID:a3d8c238-3498-4757-bd80-515609bdd68a@www.plintoncurry.com
DTSTAMP:20260420T224003Z
DTSTART:20260424T160000Z
DTEND:20260424T170000Z
SUMMARY:Funeral Service
DESCRIPTION:
URL:https://www.plintoncurry.com/obituaries/jahad-carter
LOCATION: 631 E Front St  Plainfield NJ 07060
GEO:40.6277689;-74.4162426
END:VEVENT
END:VCALENDAR