BEGIN:VCALENDAR
VERSION:2.0
PRODID:-//Tukios.com/
BEGIN:VEVENT
UID:49927003-6202-4390-b126-cef932cdf004@www.plintoncurry.com
DTSTAMP:20260420T223727Z
DTSTART:20260424T150000Z
DTEND:20260424T160000Z
SUMMARY:Viewing
DESCRIPTION:
URL:https://www.plintoncurry.com/obituaries/jahad-carter
LOCATION:Covenant United Methodist Church 631 E Front St  Plainfield NJ 
	07060
GEO:40.6277689;-74.4162426
END:VEVENT
END:VCALENDAR